BEGIN:VCALENDAR
VERSION:2.0
PRODID:-//Aeroclub Greding e.V. - ECPv6.15.20//NONSGML v1.0//EN
CALSCALE:GREGORIAN
METHOD:PUBLISH
X-WR-CALNAME:Aeroclub Greding e.V.
X-ORIGINAL-URL:https://www.aeroclub-greding.de
X-WR-CALDESC:Veranstaltungen für Aeroclub Greding e.V.
REFRESH-INTERVAL;VALUE=DURATION:PT1H
X-Robots-Tag:noindex
X-PUBLISHED-TTL:PT1H
BEGIN:VTIMEZONE
TZID:Europe/Berlin
BEGIN:DAYLIGHT
TZOFFSETFROM:+0100
TZOFFSETTO:+0200
TZNAME:CEST
DTSTART:20180325T010000
END:DAYLIGHT
BEGIN:STANDARD
TZOFFSETFROM:+0200
TZOFFSETTO:+0100
TZNAME:CET
DTSTART:20181028T010000
END:STANDARD
BEGIN:DAYLIGHT
TZOFFSETFROM:+0100
TZOFFSETTO:+0200
TZNAME:CEST
DTSTART:20190331T010000
END:DAYLIGHT
BEGIN:STANDARD
TZOFFSETFROM:+0200
TZOFFSETTO:+0100
TZNAME:CET
DTSTART:20191027T010000
END:STANDARD
BEGIN:DAYLIGHT
TZOFFSETFROM:+0100
TZOFFSETTO:+0200
TZNAME:CEST
DTSTART:20200329T010000
END:DAYLIGHT
BEGIN:STANDARD
TZOFFSETFROM:+0200
TZOFFSETTO:+0100
TZNAME:CET
DTSTART:20201025T010000
END:STANDARD
END:VTIMEZONE
BEGIN:VEVENT
DTSTART;TZID=Europe/Berlin:20190217T180000
DTEND;TZID=Europe/Berlin:20190217T180000
DTSTAMP:20260425T231703
CREATED:20181217T190313Z
LAST-MODIFIED:20181217T191142Z
UID:2667-1550426400-1550426400@www.aeroclub-greding.de
SUMMARY:Stammtisch in Kraftsbuch
DESCRIPTION:Stammtisch in Kraftsbuch: \nAls nächstes sind wir im Gasthof Schroll in Kraftsbuch für unseren Stammtisch zu gast.
URL:https://www.aeroclub-greding.de/event/stammtisch-in-kraftsbuch/
LOCATION:Gasthof Schroll\, Frankenstraße 19\, Greding\, Bayern\, 91171\, Deutschland
END:VEVENT
END:VCALENDAR