BEGIN:VCALENDAR
VERSION:2.0
PRODID:-//Aeroclub Greding e.V. - ECPv6.15.20//NONSGML v1.0//EN
CALSCALE:GREGORIAN
METHOD:PUBLISH
X-ORIGINAL-URL:https://www.aeroclub-greding.de
X-WR-CALDESC:Veranstaltungen für Aeroclub Greding e.V.
REFRESH-INTERVAL;VALUE=DURATION:PT1H
X-Robots-Tag:noindex
X-PUBLISHED-TTL:PT1H
BEGIN:VTIMEZONE
TZID:Europe/Berlin
BEGIN:DAYLIGHT
TZOFFSETFROM:+0100
TZOFFSETTO:+0200
TZNAME:CEST
DTSTART:20170326T010000
END:DAYLIGHT
BEGIN:STANDARD
TZOFFSETFROM:+0200
TZOFFSETTO:+0100
TZNAME:CET
DTSTART:20171029T010000
END:STANDARD
BEGIN:DAYLIGHT
TZOFFSETFROM:+0100
TZOFFSETTO:+0200
TZNAME:CEST
DTSTART:20180325T010000
END:DAYLIGHT
BEGIN:STANDARD
TZOFFSETFROM:+0200
TZOFFSETTO:+0100
TZNAME:CET
DTSTART:20181028T010000
END:STANDARD
BEGIN:DAYLIGHT
TZOFFSETFROM:+0100
TZOFFSETTO:+0200
TZNAME:CEST
DTSTART:20190331T010000
END:DAYLIGHT
BEGIN:STANDARD
TZOFFSETFROM:+0200
TZOFFSETTO:+0100
TZNAME:CET
DTSTART:20191027T010000
END:STANDARD
END:VTIMEZONE
BEGIN:VEVENT
DTSTART;VALUE=DATE:20181005
DTEND;VALUE=DATE:20181008
DTSTAMP:20260426T054127
CREATED:20180805T180026Z
LAST-MODIFIED:20180925T153459Z
UID:965-1538697600-1538956799@www.aeroclub-greding.de
SUMMARY:Bayrisches Jugendvergleichsfliegen
DESCRIPTION:Am 5. Oktober starte in Grabfeld an der Saale das bayrische Jugendvergleichsfliegen. Unser Schüler Moritz Ackermann hat sich bei der ostbayrischen Regionalentscheid für den Landeswettbewerb qualifiíert. Zusammen mit einem unserer Fluglehrer und anderen Vereinsmitglieder geht es die ASK 21 im Schlepptau Richtung Norden.
URL:https://www.aeroclub-greding.de/event/bayrisches-jugendvergleichsfliegen/
LOCATION:Flugplatz Grabfeld\, Mittelweg 30\, Saal an der Saale\, Bayern\, 97633\, Deutschland
CATEGORIES:Jugend,Wettbewerb
ATTACH;FMTTYPE=image/jpeg:https://www.aeroclub-greding.de/wp-content/uploads/2018/09/by_jvf_17.jpg
END:VEVENT
END:VCALENDAR